Workbook

Sheet How To
A2: High School Credit Tracker
A3: HOW TO USE THIS TRACKER
A4: ☐ | B4: Use the 4-Year Credit Tracker to see the big picture.
A5: ☐ | B5: Use the Course Record sheet to document individual courses.
A6: ☐ | B6: Update credits as courses move from planned to in progress to completed.
A7: ☐ | B7: Verify graduation, college, athletic, and other pathway requirements that apply to your family.
A8: ☐ | B8: Keep this workbook with your transcript and academic records.

Sheet Planning Checklist
A1: Pathway Student Solutions High School Credit Tracker
A2: PLANNING CHECKLIST
A3: Check | B3: Review Item
A4: ☐ | B4: English progression is planned through graduation.
A5: ☐ | B5: Math progression is planned through graduation.
A6: ☐ | B6: Science progression is planned through graduation.
A7: ☐ | B7: Social studies progression is planned through graduation.
A8: ☐ | B8: World language requirements have been checked, if applicable.
A9: ☐ | B9: Fine arts / electives are being documented.
A10: ☐ | B10: PE / health requirements have been checked, if applicable.
A11: ☐ | B11: Dual enrollment courses and credits are being documented.
A12: ☐ | B12: A transcript or academic record is being maintained.
A13: ☐ | B13: Post-high-school requirements have been considered.

Sheet Progress Check
A1: Pathway Student Solutions High School Credit Tracker
A2: STUDENT NAME | D2: COHORT YEAR | F2: c/o20xx
C3: Elective Focus Area | E3: Choose One
A4: AZ Graduation Requirements | D4: Typical Course Progression
B6: Subject Area | C6: Credits Earned | D6: Credits Required | E6: On Track?
B8: English | C8: =SUMIF('Course Record'!D:D,"*"&B8&"*",'Course Record'!F:F) -> 1 | D8: 4 | E8: =IF(C8>=D8, "Yes", "No") -> No
B9: Math | C9: =SUMIF('Course Record'!D:D,"*"&B9&"*",'Course Record'!F:F) -> 0 | D9: 4 | E9: =IF(C9>=D9, "Yes", "No") -> No
B10: Science | C10: =SUMIF('Course Record'!D:D,"*"&B10&"*",'Course Record'!F:F) -> 0 | D10: 3 | E10: =IF(C10>=D10, "Yes", "No") -> No
B11: Social Studies | C11: =SUMIF('Course Record'!D:D,"*"&B11&"*",'Course Record'!F:F) -> 0 | D11: 3 | E11: =IF(C11>=D11, "Yes", "No") -> No
B12: PE/Wellness | C12: =SUMIF('Course Record'!D:D,"*"&B12&"*",'Course Record'!F:F) -> 0 | D12: 1.5 | E12: =IF(C12>=D12, "Yes", "No") -> No
B13: Personal Finance | C13: =SUMIF('Course Record'!D:D,"*"&B13&"*",'Course Record'!F:F) -> 0 | D13: 0.5 | E13: =IF(C13>=D13, "Yes", "No") -> No
B14: Foreign Language | C14: =SUMIF('Course Record'!D:D,"*"&B14&"*",'Course Record'!F:F) -> 0 | D14: 2 | E14: =IF(C14>=D14, "Yes", "No") -> No
B15: Computer Sci Foundations | C15: =SUMIF('Course Record'!D:D,"*"&B15&"*",'Course Record'!F:F) -> 0 | D15: 1 | E15: =IF(C15>=D15, "Yes", "No") -> No
B16: Fine Arts | C16: =SUMIF('Course Record'!D:D,"*"&B16&"*",'Course Record'!F:F) -> 0 | D16: 1 | E16: =IF(C16>=D16, "Yes", "No") -> No
B17: Other Electives / CTE | C17: =SUMIF('Course Record'!D:D,"*"&B17&"*",'Course Record'!F:F) -> 0 | D17: 3 | E17: =IF(C17>=D17, "Yes", "No") -> No
B18: Target Credits: 22 credits | C18: =SUM(C8:C17) -> 1
B21: WHAT IS A CREDIT: Per Board Rule and Statute R7-2-302, “a credit” refers to a year-long course. For high school, a class is typically 55 minutes/day or 275 minutes/week for 180 days.

Sheet Course Record
A1: Pathway Student Solutions High School Credit Tracker
A2: STUDENT NAME | D2: COHORT YEAR | G2: c/o20xx
B3: CIVICS TEST | F3: ACT / SAT
E4: Graduation Date | H4: NOTES
A6: Grade Level | B6: School Year | C6: Course Name | D6: Subject | E6: Status | F6: Credits | G6: Provider/Curriculum
A7: 9th | B7: 25/26 | C7: Place Holder ELA | D7: English | E7: Complete | F7: 1 | G7: Abeka Academy
E8: -
E9: -
E10: -
E11: -
E12: -
E13: -
E14: -
E15: -
E16: -
E17: -
E18: -
E19: -
... E53: -
